BEGIN:VCALENDAR
VERSION:2.0
PRODID:-//CGT Andalucía, Ceuta y Melilla - ECPv6.15.20//NONSGML v1.0//EN
CALSCALE:GREGORIAN
METHOD:PUBLISH
X-ORIGINAL-URL:https://cgtandalucia.org
X-WR-CALDESC:Eventos para CGT Andalucía, Ceuta y Melilla
REFRESH-INTERVAL;VALUE=DURATION:PT1H
X-Robots-Tag:noindex
X-PUBLISHED-TTL:PT1H
BEGIN:VTIMEZONE
TZID:Europe/Madrid
BEGIN:DAYLIGHT
TZOFFSETFROM:+0100
TZOFFSETTO:+0200
TZNAME:CEST
DTSTART:20220327T010000
END:DAYLIGHT
BEGIN:STANDARD
TZOFFSETFROM:+0200
TZOFFSETTO:+0100
TZNAME:CET
DTSTART:20221030T010000
END:STANDARD
BEGIN:DAYLIGHT
TZOFFSETFROM:+0100
TZOFFSETTO:+0200
TZNAME:CEST
DTSTART:20230326T010000
END:DAYLIGHT
BEGIN:STANDARD
TZOFFSETFROM:+0200
TZOFFSETTO:+0100
TZNAME:CET
DTSTART:20231029T010000
END:STANDARD
BEGIN:DAYLIGHT
TZOFFSETFROM:+0100
TZOFFSETTO:+0200
TZNAME:CEST
DTSTART:20240331T010000
END:DAYLIGHT
BEGIN:STANDARD
TZOFFSETFROM:+0200
TZOFFSETTO:+0100
TZNAME:CET
DTSTART:20241027T010000
END:STANDARD
BEGIN:DAYLIGHT
TZOFFSETFROM:+0100
TZOFFSETTO:+0200
TZNAME:CEST
DTSTART:20250330T010000
END:DAYLIGHT
BEGIN:STANDARD
TZOFFSETFROM:+0200
TZOFFSETTO:+0100
TZNAME:CET
DTSTART:20251026T010000
END:STANDARD
END:VTIMEZONE
BEGIN:VEVENT
DTSTART;TZID=Europe/Madrid:20230321T080000
DTEND;TZID=Europe/Madrid:20230321T170000
DTSTAMP:20260423T110323
CREATED:20230320T111323Z
LAST-MODIFIED:20230321T111519Z
UID:10000006-1679385600-1679418000@cgtandalucia.org
SUMMARY:Andalucía afectada por la Huelga en ADIF\, dará comienzo a las 0h del lunes 20 de marzo.
DESCRIPTION:A medianoche de hoy comienza la huelga en el administrador de infraestructuras ferroviarias convocada por CGT a nivel estatal y motivada por el empobrecimiento de la plantilla y la flexibilización de la jornada laboral tras la firma de un preacuerdo en materia de jornada por los sindicatos CCOO\, UGT y SCF\, el pasado jueves. \nCon fecha 17 de noviembre se publicó en el BOE el acuerdo marco para la modernización de las administraciones del siglo XXI en el que se contempla la perdida de poder adquisitivo del personal ferroviario al no respetarse en los salarios las subidas del IPC\, si bien se pretende compensar ese empobrecimiento generalizado con otras medidas como la implantación de las 35h semanales\, el aumento de retribuciones por subida de la productividad ante la falta de plantillas\, internalización de cargas de trabajo que actualmente realizan contratas y subcontratas\, recuperación de los complementos en caso de Incapacidad Temporal\, etc. \nMientras ADIF aplica la pírrica subida salarial fijada en el mencionado acuerdo marco para 2023\, 2\,5%\, obvia el resto de cuestiones que deben servir para compensar la perdida de retribuciones y alcanza un acuerdo con los Sindicatos afines\, en el que desregula la jornada laboral pactada en convenio de ocho horas diarias\, llevando a las trabajadoras/es a estar regulados por el art 14 del Estatuto de los Trabajadores con un 10% de flexibilidad de jornada anual a disposición de la empresa absolutamente gratis\, pervirtiendo\, de qué manera\, la aplicación de las 35h semanales. \nCGT\, que acaba de recibir un importante apoyo de los trabajadores/as con un considerable incremento de la representación en ADIF tras las elecciones sindicales celebradas el pasado 7 de marzo\, exige que las medidas fijadas en el acuerdo marco para las administraciones del siglo XXI se apliquen de inmediato recuperándose los complementos en situaciones de IT\, internalizando cargas de trabajo\, retribuyendo el aumento de la productividad durante años y la compensación de las 35h semanales en 14 días de reducción de jornada sin que se modifique la jornada laboral diaria de 8 horas fijada en el Convenio Colectivo en vigor del cual CGT es firmante. \nPor estas cuestiones que son vitales para la plantilla de ADIF y su futuro laboral y profesional\, CGT ha convocado huelgas de 0 a 23h para el día 20 de marzo y 10 de abril\, en principio. No se puede seguir permitiendo la pérdida de puestos de trabajo que se viene produciendo en todo el territorio andaluz donde la plantilla ferroviaria va mermando a pasos agigantados \nCGT-ANDALUCÍA
URL:https://cgtandalucia.org/evento/andalucia-afectada-por-la-huelga-en-adif-dara-comienzo-a-las-0h-del-lunes-20-de-marzo/
ATTACH;FMTTYPE=image/jpeg:https://cgtandalucia.org/wp-content/uploads/2023/03/4wo5QI2keMgSzC5D.jpg
END:VEVENT
BEGIN:VEVENT
DTSTART;TZID=Europe/Madrid:20230326T113000
DTEND;TZID=Europe/Madrid:20230326T170000
DTSTAMP:20260423T110323
CREATED:20230321T110130Z
LAST-MODIFIED:20230321T110147Z
UID:10000005-1679830200-1679850000@cgtandalucia.org
SUMMARY:Una andaluza un árbol. 25 de marzo en Alcalá del Valle (Sierra de Cádiz)
DESCRIPTION:Como venimos haciendo cada año\, el próximo 26 de Marzo procederemos a realizar la Campaña\, “Una Andaluza un Árbol”\, para ellos nos desplazaremos en ésta ocasión a la Sierra de Cádiz\, concretamente a Alcalá del Valle. \nEl programa es el siguiente:\n\n11.30 h. Llegada a la la explanada del Recinto Ferial. Desde allí nos desplazaremos hacia el lugar por determinar a reforestar.\n12 h realizaremos la reforestación participativa. (Se ruega traigan azadas o cualquier tipo de utensilio para ello)\n14 h Comida popular\, por gentileza del Ayto de Alcalá del Valle\, consistente en un arroz con verduras.\n\nDependiendo de las inscripciones se podría disponer de un autobús para el desplazamiento. \nInscripciones en el correo: saludlaboral@cgtandalucia.org\, antes del día 22/03/2023 a las 00 h. Se debe indicar el lugar desde donde se viene\, si acompañan niños/as y si tienen algún tipo de alergia alimentaria.
URL:https://cgtandalucia.org/evento/una-andaluza-un-arbol-25-de-marzo-en-alcala-del-valle-sierra-de-cadiz/
LOCATION:alcala del valle\, cadiz\, alcala del valle\, Cadiz
ATTACH;FMTTYPE=image/jpeg:https://cgtandalucia.org/wp-content/uploads/2023/03/una-andaluza-un-arbol-1.jpg
END:VEVENT
BEGIN:VEVENT
DTSTART;TZID=Europe/Madrid:20230514T110000
DTEND;TZID=Europe/Madrid:20230514T130000
DTSTAMP:20260423T110323
CREATED:20230513T151731Z
LAST-MODIFIED:20230513T152501Z
UID:10000009-1684062000-1684069200@cgtandalucia.org
SUMMARY:En defensa de Doñana: ¡participa en la manifestación del 14 de mayo!
DESCRIPTION:Desde el sindicato CGT Andalucía\, Ceuta y Melilla queremos invitarte a participar en la manifestación que tendrá lugar el próximo 14 de mayo a las 11 de la mañana en Sevilla\, convocada por la plataforma Salvemos Doñana. La manifestación partirá desde la Alameda de Hércules y llegará hasta el Parlamento de Andalucía\, por las calles de Sevilla\, para exigir a las autoridades competentes que protejan Doñana y su entorno. \nQueremos hacer un llamamiento a la ciudadanía andaluza y a todas las personas sensibles con la conservación de la naturaleza para que se sumen a esta movilización pacífica y reivindicativa. El agua es riqueza\, cuidémosla. Con el agua no se juega. Sin caudales ecológicos no hay caudales económicos. Prohibición de deforestar para cultivar. \nNo olvides llevar agua\, una gorra y algo de picotear\, recuerda que hace calor en Sevilla. Y sobre todo\, lleva tu voz y tu compromiso con Doñana. ¡Te esperamos! 💚 \nhttps://cgtandalucia.org/etiquetas/medio-ambiente/ \nFirma para proteger Doñana:\nwww.salvemosdoñana.es
URL:https://cgtandalucia.org/evento/en-defensa-de-donana-participa-en-la-manifestacion-del-14-de-mayo/
CATEGORIES:andalucía
ATTACH;FMTTYPE=image/jpeg:https://cgtandalucia.org/wp-content/uploads/2023/05/Imagen-de-WhatsApp-2023-05-12-a-las-19.21.27.jpg
END:VEVENT
BEGIN:VEVENT
DTSTART;VALUE=DATE:20230520
DTEND;VALUE=DATE:20230521
DTSTAMP:20260423T110323
CREATED:20230502T102845Z
LAST-MODIFIED:20230511T080109Z
UID:10000008-1684540800-1684627199@cgtandalucia.org
SUMMARY:Curso Práctico de denuncias ante Inspección de Trabajo
DESCRIPTION:Curso Práctico de denuncias ante Inspección de Trabajo \n\n\nFecha:\n20 de mayo de 2023 a las 10:00h\nLugar:\nEspacio Libertario «Cecilio Gordillo»\nC/ Fresca\, nº 20. Antequera (Málaga)CGT A cubrirá la comida y el desplazamiento COLECTIVO. Si no tienes con quien compartir desplazamiento contacta con la formacion@cgtandalucia.org \n\nInscripción: https://forms.gle/w4Nvt1b6qEN9GD1Q8
URL:https://cgtandalucia.org/evento/curso-practico-de-denuncias-ante-inspeccion-de-trabajo/
CATEGORIES:andalucía
END:VEVENT
BEGIN:VEVENT
DTSTART;VALUE=DATE:20230526
DTEND;VALUE=DATE:20230527
DTSTAMP:20260423T110323
CREATED:20230524T104903Z
LAST-MODIFIED:20230524T104903Z
UID:10000010-1685059200-1685145599@cgtandalucia.org
SUMMARY:CGT Málaga contra la siniestralidad laboral: concentración y homenaje a las víctimas para continuar con inauguración de la nueva sede.
DESCRIPTION:🔴🔴🔴 ¡CGT en Málaga contra la siniestralidad laboral y la patronal! ⚫⚫⚫\n👊 Ven a exigir prevención y seguridad y a homenajear a las víctimas. 👊\n😎 Y después\, disfruta de la inauguración de la nueva sede de CGT Málaga. 😎 \n🔗 Más info: https://cgtandalucia.org/cgt-denuncia-el-terrorismo-de-la-patronal-la-opresion-laboral-mata-el-viernes-26-de-mayo-concentracion-en-malaga-para-continuar-con-inauguracion-de-la-nueva-sede-de-cgt-la-lucha-por-los-dere/ \n#CGTMálaga #SiniestralidadLaboral #LuchaPorLosDerechos
URL:https://cgtandalucia.org/evento/cgt-malaga-contra-la-siniestralidad-laboral-concentracion-y-homenaje-a-las-victimas-para-continuar-con-inauguracion-de-la-nueva-sede/
CATEGORIES:Salud
END:VEVENT
BEGIN:VEVENT
DTSTART;VALUE=DATE:20230527
DTEND;VALUE=DATE:20230528
DTSTAMP:20260423T110323
CREATED:20230502T102329Z
LAST-MODIFIED:20230502T102631Z
UID:10000007-1685145600-1685231999@cgtandalucia.org
SUMMARY:Curso: Protección de Datos e Inteligencia Artificial
DESCRIPTION:Fecha: \n\n27 de mayo a las 10:00 \nLugar: \n\nAntequera. Sede de CGT Andalucía\, Ceuta y Melilla\nC/Fresca\, 20\n\n  \nPonente:\nIván González Moreno \, Abogado y delegado de protección de datos de CGT Andalucía\, Ceuta y Melilla. \n\nCGT A cubrirá la comida y el desplazamiento COLECTIVO. Si no tienes con quien compartir desplazamiento contacta con la formacion@cgtandalucia.org\nhttps://forms.gle/ugzCCxVQ4sELp8BS8
URL:https://cgtandalucia.org/evento/curso-proteccion-de-datos-e-inteligencia-artificial/
END:VEVENT
BEGIN:VEVENT
DTSTART;VALUE=DATE:20230614
DTEND;VALUE=DATE:20230615
DTSTAMP:20260423T110323
CREATED:20230613T110054Z
LAST-MODIFIED:20230613T110054Z
UID:10000011-1686700800-1686787199@cgtandalucia.org
SUMMARY:Día de la memoria histórica
DESCRIPTION:🔴⚫🔍 Descubre la preocupante situación que amenaza la continuidad de las políticas de #MemoriaHistórica en Andalucía. ¿Sabías que el legado histórico está en peligro? \n#Andalucía #CGTAndalucíaCeutayMelilla \n👉https://cgtandalucia.org/la-preocupante-situacion-que-amenaza-la-continuidad-de-las-politicas-de-memoria-andaluzas/
URL:https://cgtandalucia.org/evento/dia-de-la-memoria-historica/
END:VEVENT
BEGIN:VEVENT
DTSTART;TZID=Europe/Madrid:20240818T080000
DTEND;TZID=Europe/Madrid:20240818T170000
DTSTAMP:20260423T110323
CREATED:20240808T063140Z
LAST-MODIFIED:20240808T073544Z
UID:10000012-1723968000-1724000400@cgtandalucia.org
SUMMARY:El centro municipal de emergencias del Ayto de Málaga irá a la huelga durante la feria de Málaga.
DESCRIPTION:Tras el intento de evitar el conflicto por parte de CGT\, ha sido imposible alcanzar un acuerdo en el SERCLA en la mañana de hoy ante la actitud intransigente de Eulen\, concesionaria de la gestión telefónica del CME. \nEulen se niega a dar cumplimiento a normas básicas como el convenio colectivo de contact center o el Estatuto de los Trabajadores\, incurriendo además en discriminación directa entre los miembros de la plantilla según el tipo de contrato\, violando tácitamente el art. 14 de la Constitución. \nEl Ayuntamiento de Málaga debe dejar de ser cómplice de esta empresa explotadora que maltrata a las personas que se dedican a ayudar a la ciudadanía y discrimina a quienes tienen contratos a tiempo parcial o son fijos discontinuos. \nLa huelga comenzará a las 0h del domingo 18 de agosto y concluirá a las 15h del domingo 25 de agosto. \nCGT lamenta tener que recurrir a la huelga para hacer cumplir la legalidad vigente\, si bien sigue dejando abierta la puerta a negociar hasta el minuto anterior al inicio de la huelga.
URL:https://cgtandalucia.org/evento/el-centro-municipal-de-emergencias-del-ayto-de-malaga-ira-a-la-huelga-durante-la-feria-de-malaga/
ATTACH;FMTTYPE=image/jpeg:https://cgtandalucia.org/wp-content/uploads/2024/08/601455070_198809236_1706x960.jpg
END:VEVENT
END:VCALENDAR