BEGIN:VCALENDAR
VERSION:2.0
PRODID:-//CGT Andalucía, Ceuta y Melilla - ECPv6.15.20//NONSGML v1.0//EN
CALSCALE:GREGORIAN
METHOD:PUBLISH
X-ORIGINAL-URL:https://cgtandalucia.org
X-WR-CALDESC:Eventos para CGT Andalucía, Ceuta y Melilla
REFRESH-INTERVAL;VALUE=DURATION:PT1H
X-Robots-Tag:noindex
X-PUBLISHED-TTL:PT1H
BEGIN:VTIMEZONE
TZID:Europe/Madrid
BEGIN:DAYLIGHT
TZOFFSETFROM:+0100
TZOFFSETTO:+0200
TZNAME:CEST
DTSTART:20230326T010000
END:DAYLIGHT
BEGIN:STANDARD
TZOFFSETFROM:+0200
TZOFFSETTO:+0100
TZNAME:CET
DTSTART:20231029T010000
END:STANDARD
BEGIN:DAYLIGHT
TZOFFSETFROM:+0100
TZOFFSETTO:+0200
TZNAME:CEST
DTSTART:20240331T010000
END:DAYLIGHT
BEGIN:STANDARD
TZOFFSETFROM:+0200
TZOFFSETTO:+0100
TZNAME:CET
DTSTART:20241027T010000
END:STANDARD
BEGIN:DAYLIGHT
TZOFFSETFROM:+0100
TZOFFSETTO:+0200
TZNAME:CEST
DTSTART:20250330T010000
END:DAYLIGHT
BEGIN:STANDARD
TZOFFSETFROM:+0200
TZOFFSETTO:+0100
TZNAME:CET
DTSTART:20251026T010000
END:STANDARD
END:VTIMEZONE
BEGIN:VEVENT
DTSTART;TZID=Europe/Madrid:20240818T080000
DTEND;TZID=Europe/Madrid:20240818T170000
DTSTAMP:20260420T063832
CREATED:20240808T063140Z
LAST-MODIFIED:20240808T073544Z
UID:10000012-1723968000-1724000400@cgtandalucia.org
SUMMARY:El centro municipal de emergencias del Ayto de Málaga irá a la huelga durante la feria de Málaga.
DESCRIPTION:Tras el intento de evitar el conflicto por parte de CGT\, ha sido imposible alcanzar un acuerdo en el SERCLA en la mañana de hoy ante la actitud intransigente de Eulen\, concesionaria de la gestión telefónica del CME. \nEulen se niega a dar cumplimiento a normas básicas como el convenio colectivo de contact center o el Estatuto de los Trabajadores\, incurriendo además en discriminación directa entre los miembros de la plantilla según el tipo de contrato\, violando tácitamente el art. 14 de la Constitución. \nEl Ayuntamiento de Málaga debe dejar de ser cómplice de esta empresa explotadora que maltrata a las personas que se dedican a ayudar a la ciudadanía y discrimina a quienes tienen contratos a tiempo parcial o son fijos discontinuos. \nLa huelga comenzará a las 0h del domingo 18 de agosto y concluirá a las 15h del domingo 25 de agosto. \nCGT lamenta tener que recurrir a la huelga para hacer cumplir la legalidad vigente\, si bien sigue dejando abierta la puerta a negociar hasta el minuto anterior al inicio de la huelga.
URL:https://cgtandalucia.org/evento/el-centro-municipal-de-emergencias-del-ayto-de-malaga-ira-a-la-huelga-durante-la-feria-de-malaga/
ATTACH;FMTTYPE=image/jpeg:https://cgtandalucia.org/wp-content/uploads/2024/08/601455070_198809236_1706x960.jpg
END:VEVENT
END:VCALENDAR